BEGIN:VCALENDAR
VERSION:2.0
PRODID:-//Svalereden Strand Camping - ECPv6.13.0//NONSGML v1.0//EN
CALSCALE:GREGORIAN
METHOD:PUBLISH
X-ORIGINAL-URL:https://svaleredencamping.dk
X-WR-CALDESC:Begivenheder for Svalereden Strand Camping
REFRESH-INTERVAL;VALUE=DURATION:PT1H
X-Robots-Tag:noindex
X-PUBLISHED-TTL:PT1H
BEGIN:VTIMEZONE
TZID:UTC
BEGIN:STANDARD
TZOFFSETFROM:+0000
TZOFFSETTO:+0000
TZNAME:UTC
DTSTART:20260101T000000
END:STANDARD
END:VTIMEZONE
BEGIN:VEVENT
DTSTART;TZID=UTC:20260307T190000
DTEND;TZID=UTC:20260307T210000
DTSTAMP:20260425T030431
CREATED:20251209T095858Z
LAST-MODIFIED:20260106T134259Z
UID:31201-1772910000-1772917200@svaleredencamping.dk
SUMMARY:Det sker i området: Ølsmagning med Eddie
DESCRIPTION:Vi har igen fået mulighed for at få Danmarks sjoveste brygmester til Sæby – nemlig Eddie Szweda fra Midtfyns Bryghus Eddie tager os gennem øllets historie med humoren som fast bindeled\, ingen kommer igennem denne aften\, uden latterkrampe og smagen af fantastisk øl.Det bliver en aften med gode øl i godt selskab\, hvor hele overskuddet kommer til at gå ubeskåret til Sæby Knækker Cancer Selve ølsmagningen starter kl. 19.00\, men du har mulighed for at forlænge aftenen\, da der vil være tapasbuffet i Café Sol kl. 18.00.Pris: Tapas buffet (kl.18.00) 99\,-Bestilles ved at kontakte Café Sol på 42807537 Ølsmagning (kl.19.00) 295\,-Prisen er inkl. smagning af 7 fantastiske øl\, ølglas til eje\, fantastisk foredrag med humoren som bindeled.Bestilles ved at sende pengene til Sæby Knækker Cancer på MobilePay 46201Noter venligst ‘dit navn’ + ‘øl med Eddie’ ved overførsel.Bestil din billet senest d. 14.02.26Pladserne besættes efter først til mølle Ønsker du et gavekort til en julegave så skriv til os på mail: cancersaeby@gmail.comDu kan læse mere om eventet og tapasmenuen på vores hjemmeside:https://saebyknaekkercancer.dk/oelsmagning-med-eddie/ \n  \nOvernatning på Svalereden Strand Camping\nSvalereden Strand Camping har hvert år mange spillere og familier boende under Rødspætte Cup.Vi tilbyder hytter\, værelser\, lejligheder samt pladser til egen campingvogn eller autocamper.\nKontakt os gerne på info@svaleredencamping.dk for evt. ledige overnatningsmuligheder.
URL:https://svaleredencamping.dk/aktiviteter/oelsmagning-med-eddie/
LOCATION:Sæby Spektrum\, Sæbygårdvej 32\, Sæby\, 9300\, Denmark
CATEGORIES:Det sker i Sæby,Events,Sæby Knækker Cancer
ATTACH;FMTTYPE=image/jpeg:https://svaleredencamping.dk/wp-content/uploads/2025/12/Oelsmagning-med-Eddie-den-7.-marts-2026.jpg
END:VEVENT
END:VCALENDAR