BEGIN:VCALENDAR
VERSION:2.0
PRODID:-//Svalereden Strand Camping - ECPv6.13.0//NONSGML v1.0//EN
CALSCALE:GREGORIAN
METHOD:PUBLISH
X-WR-CALNAME:Svalereden Strand Camping
X-ORIGINAL-URL:https://svaleredencamping.dk
X-WR-CALDESC:Begivenheder for Svalereden Strand Camping
REFRESH-INTERVAL;VALUE=DURATION:PT1H
X-Robots-Tag:noindex
X-PUBLISHED-TTL:PT1H
BEGIN:VTIMEZONE
TZID:UTC
BEGIN:STANDARD
TZOFFSETFROM:+0000
TZOFFSETTO:+0000
TZNAME:UTC
DTSTART:20250101T000000
END:STANDARD
END:VTIMEZONE
BEGIN:VEVENT
DTSTART;TZID=UTC:20251231T110000
DTEND;TZID=UTC:20251231T130000
DTSTAMP:20260425T015919
CREATED:20251225T094709Z
LAST-MODIFIED:20251225T094759Z
UID:31403-1767178800-1767186000@svaleredencamping.dk
SUMMARY:OUTDOOR WELLNESS – FÅ VARMEN OG NYD STILHEDEN
DESCRIPTION:I forbindelse med nytåret holder vi den mobile sauna åben den 31. december fra kl. 11.00-13.00. \nSaunaen ved stranden danner rammen om ægte outdoor wellness\, hvor varme\, kulde og stilhed går hånd i hånd.Tag et forfriskende vinterdyp i havet og lad derefter varmen fra saunaen give ro i krop og sind. \nKontrasten mellem det kolde hav og den varme sauna giver ny energi og nærvær – en smuk måde at afslutte året på.Efterfølgende samles vi til nytårsskål kl. 13.00–14.00 i fælleskøkkenet (bygning G) \nSaunaen er for campingpladsens gæster og benyttes efter aftale med receptionen.Der vil løbende være mulighed for saunagus – tider oplyses på pladsens infotavler.
URL:https://svaleredencamping.dk/aktiviteter/nyd-stilheden-i-den-mobile-sauna-outdoor-wellness-fa-varmen-og-nyd-stilheden/
LOCATION:Svalereden Strand Camping\, Frederikshavnsvej 112B\, Sæby\, 9300\, Denmark
CATEGORIES:Events,Svalereden Strand Camping,Wellness og vinterbadning
ATTACH;FMTTYPE=image/jpeg:https://svaleredencamping.dk/wp-content/uploads/2025/12/Sauna-taget-i-brug-den-23.-december-Sebastian-og-kammerat.jpg
ORGANIZER;CN="Svalereden Strand Camping":MAILTO:info@svaleredencamping.dk
END:VEVENT
END:VCALENDAR