BEGIN:VCALENDAR
VERSION:2.0
PRODID:-//Svalereden Strand Camping - ECPv6.13.0//NONSGML v1.0//EN
CALSCALE:GREGORIAN
METHOD:PUBLISH
X-WR-CALNAME:Svalereden Strand Camping
X-ORIGINAL-URL:https://svaleredencamping.dk
X-WR-CALDESC:Begivenheder for Svalereden Strand Camping
REFRESH-INTERVAL;VALUE=DURATION:PT1H
X-Robots-Tag:noindex
X-PUBLISHED-TTL:PT1H
BEGIN:VTIMEZONE
TZID:UTC
BEGIN:STANDARD
TZOFFSETFROM:+0000
TZOFFSETTO:+0000
TZNAME:UTC
DTSTART:20260101T000000
END:STANDARD
END:VTIMEZONE
BEGIN:VEVENT
DTSTART;TZID=UTC:20260521T173000
DTEND;TZID=UTC:20260521T213000
DTSTAMP:20260425T004420
CREATED:20260114T113248Z
LAST-MODIFIED:20260114T113248Z
UID:31533-1779384600-1779399000@svaleredencamping.dk
SUMMARY:Det sker i Sæby: BROLØBET DE 17 BROER
DESCRIPTION:Sæby byder sig til med mange broer\nSightseeing ud over det sædvanlige…. Run & Walk \nPå en godt opmærket rundstrækning på 7 km løber du over 17 forskellige broer. Så på en halvmarathon er det muligt at løbe over hele 51 broer……. \nVelkommen til et Maritimt start og målområdet på Havnen i Sæby. \n  \nRuten her er varieret på gode stier og veje. Den markerede rute leder dig ud på Sæby’s nye havn\, hen over den gamle havn\, her bringer en træbro dig sikkert frem mod en lige strækning på strandpromenaden hvor du har Kattegat på din højrehånd.Jernkilden og stilheden i Sæbygaard skov bliver de næste indtryk på denne sightseeing. Gode stier leder dig gennem stilheden…. for igen pludselig at være ude af skoven. \nStien hvor man løber langs åen mod centrum byder på nogle små broer inden man løber over den gamle bro på Hans Aabelsvej mod midtbyen. \nPå vej væk fra centrum møder du den mest centrale bro i byen – her får du til venstre det mest fantastiske billede du kan tænke dig. Sæby’s gamle Vandmølle med stemmeværket…ikke uden grund at dette sted er det mest fotograferede sted i byen. \n  \nLøb eller gå ruten og oplev 17 / 34 eller 51 broer i  ” Bette Venedig ”  Det gjorde 170 deltagere sidst….. \n  \nStart og mål: Adresse: Havnen 7  9300 Sæby \nStarttidspunkter: \nKl. 17.30               Halvmarathon Early ( løber + 2.15 ) \nkl.  17.30               14 km Walk \nKl. 18.00               Halvmarathon \nKl. 18.00               Alle andre distancer   \n  \nSe mere her – hvor du også kan tilmelde dig  \n 
URL:https://svaleredencamping.dk/aktiviteter/det-sker-i-saeby-broloebet-de-17-broer/
LOCATION:Sæby Havn\, Havnen 3\, Sæby\, 9300\, Denmark
CATEGORIES:Det sker i Sæby,Events,Løbe event
ATTACH;FMTTYPE=image/png:https://svaleredencamping.dk/wp-content/uploads/2026/01/DE-17-BROER.png
END:VEVENT
END:VCALENDAR