BEGIN:VCALENDAR
VERSION:2.0
PRODID:-//Svalereden Strand Camping - ECPv6.13.0//NONSGML v1.0//EN
CALSCALE:GREGORIAN
METHOD:PUBLISH
X-ORIGINAL-URL:https://svaleredencamping.dk
X-WR-CALDESC:Begivenheder for Svalereden Strand Camping
REFRESH-INTERVAL;VALUE=DURATION:PT1H
X-Robots-Tag:noindex
X-PUBLISHED-TTL:PT1H
BEGIN:VTIMEZONE
TZID:UTC
BEGIN:STANDARD
TZOFFSETFROM:+0000
TZOFFSETTO:+0000
TZNAME:UTC
DTSTART:20260101T000000
END:STANDARD
END:VTIMEZONE
BEGIN:VEVENT
DTSTART;TZID=UTC:20260502T083000
DTEND;TZID=UTC:20260502T120000
DTSTAMP:20260424T231337
CREATED:20260114T114033Z
LAST-MODIFIED:20260114T114747Z
UID:31536-1777710600-1777723200@svaleredencamping.dk
SUMMARY:Det sker i Sæby: SÆBY BJERGMARATHON
DESCRIPTION:Velkommen til Sæby Bjergmarathon 2026\nKavalkader af flotte udsigter god plads til Runners & Walkers….  \nLøbet som tilbyder distancer og udfordringer som individuelt passer enhver. \nDer er medaljer man bare lige snupper og der er dem man må slide lidt for…..her vil i opleve en storslået rute som giver både sanser og det visuelle en på opleveren. Glæd jer til et fantastisk målområde i parken Nellemanns Have som har Nordeuropas største samling af Paradisæbletræer. Det går op…det går ned…mød Sæbygaard Skov med rislende vand\, et sandt orgie af lysegrønt….nyudsprunget løv\, gode skovveje og Gedebjerget med eget depot på toppen\, hvorfra der er 180 graders udsigt over kysten og Kattegat. Hele ruten som er en rundstrækning på 10.6 km byder på et godt løbeunderlag \nAt løbe gennem dette varierede landskab…giver et andet perspektiv på tingene; du ser op\, du beundrer\, du bliver overvældet af områdets skønhed.\nSå har du lyst til at udfordre dig selv og evt. lære nye sider af dig selv at kende\, så er dette løbet for dig…del oplevelsen med en løbeven / nabo eller familiemedlem – find distancen som passer jer på løb eller walk.\nNellemanns Have er stor\, der er bla. en nyanlagt legeplads…..denne byder på masser af sjov for børn med gynger\, klatretårne og rutsjebaner\, alt sammen samlet i et stort sandareal\, komplet med masser af borde og bænke..så tilmeld hele familien…her har alle en mulighed for at få en oplevelserig dag. \nFå den flotte specialdesignede Finisher Bjergmedalje om halsen….\nDer er ligeledes lodtrækningspræmier for tusindvis af kroner….. \nPris uanset distance:  160.00 kr \nDistancer:\nLøb:   42.2 / 21.1 / 10.55 / 7.0 km\nWalk: 21.1 / 10.55 / 7.0 km \nStart og mål:        Nellemanns Have\, Langtvedvej 23  9300 Sæby \nSe Ruter:\nMarathon / Halvmarathon / 10.55 km   \n7.0 km  \nStarttidspunkter:\nKl. 08.30               Marathon\nKl. 08.30               21 Km Walk\nKl. 09.30               21 Km Early ( løber + 2.15 )\nKl  10.00               21 Km\nKl  10.30                 7 Km\nKl  10.30               10 Km \nSE MERE HER – OG HER KAN DU OGSÅ TILMELDE DIG!
URL:https://svaleredencamping.dk/aktiviteter/det-sker-i-saeby-saeby-bjergmarathon/
LOCATION:Nellemanns Have\, Langtvedvej 23\, Sæby\, 9300\, Denmark
CATEGORIES:Det sker i Sæby,Events,Løbe event
ATTACH;FMTTYPE=image/jpeg:https://svaleredencamping.dk/wp-content/uploads/2026/01/Saeby-Bjergmarathon.jpg
END:VEVENT
END:VCALENDAR