BEGIN:VCALENDAR
VERSION:2.0
PRODID:-//Svalereden Strand Camping - ECPv6.13.0//NONSGML v1.0//EN
CALSCALE:GREGORIAN
METHOD:PUBLISH
X-WR-CALNAME:Svalereden Strand Camping
X-ORIGINAL-URL:https://svaleredencamping.dk
X-WR-CALDESC:Begivenheder for Svalereden Strand Camping
REFRESH-INTERVAL;VALUE=DURATION:PT1H
X-Robots-Tag:noindex
X-PUBLISHED-TTL:PT1H
BEGIN:VTIMEZONE
TZID:UTC
BEGIN:STANDARD
TZOFFSETFROM:+0000
TZOFFSETTO:+0000
TZNAME:UTC
DTSTART:20260101T000000
END:STANDARD
END:VTIMEZONE
BEGIN:VEVENT
DTSTART;TZID=UTC:20260704T083000
DTEND;TZID=UTC:20260704T123000
DTSTAMP:20260425T021640
CREATED:20260114T122149Z
LAST-MODIFIED:20260114T122259Z
UID:31557-1783153800-1783168200@svaleredencamping.dk
SUMMARY:Det sker i Sæby: HAVN 2 HAVN RUNNING TOUR   Sæby - Frederikshavn
DESCRIPTION:HAVN 2 HAVN RUNNING TOUR – Sæby ⇄ Frederikshavn\nVelkommen til dette…. Nonprofit Start & Målområde….Med måske.. Danmarks bedste udsigt. \nMaritim stemning og eget VIP strandområde på Sæby Havn.  \nSæby Østkystens perle….har Kattegat som en dejlig nabo\, en nabo som giver dette løb dimensioner. \nMaritimt løb langs Kattegat med start og mål på Sæby Havn – måske med Danmarks bedste udsigt. Ruten følger strand\, promenade og stier mod Frederikshavn og retur. \nLøb: 10\,6 / 21\,1 / 42\,2 kmWalk: 10\,6 / 21\,1 km \nPris: 150 kr. uanset distance \n✔ Havneplatte og kolde drikke i mål✔ Flot 70 mm maritim medalje✔ Strand\, havnestemning og hyggeligt målområde \nSE MERE HER – OG TILMELD DIG! \nARR:   LØB 4 SAGEN   *   NONPROFIT RUNNING   *   VÆRDIBASERET   *    PÅ AT GØRE EN FORSKEL FOR ANDRE 
URL:https://svaleredencamping.dk/aktiviteter/det-sker-i-saeby-havn-2-havn-running-tour-saeby-frederikshavn/
LOCATION:Sæby Havn\, Havnen 3\, Sæby\, 9300\, Denmark
CATEGORIES:Det sker i Sæby
ATTACH;FMTTYPE=image/jpeg:https://svaleredencamping.dk/wp-content/uploads/2026/01/Loeb-havn-til-havn.jpeg
END:VEVENT
END:VCALENDAR