BEGIN:VCALENDAR
VERSION:2.0
PRODID:-//Svalereden Strand Camping - ECPv6.13.0//NONSGML v1.0//EN
CALSCALE:GREGORIAN
METHOD:PUBLISH
X-ORIGINAL-URL:https://svaleredencamping.dk
X-WR-CALDESC:Begivenheder for Svalereden Strand Camping
REFRESH-INTERVAL;VALUE=DURATION:PT1H
X-Robots-Tag:noindex
X-PUBLISHED-TTL:PT1H
BEGIN:VTIMEZONE
TZID:UTC
BEGIN:STANDARD
TZOFFSETFROM:+0000
TZOFFSETTO:+0000
TZNAME:UTC
DTSTART:20260101T000000
END:STANDARD
END:VTIMEZONE
BEGIN:VEVENT
DTSTART;TZID=UTC:20260617T160000
DTEND;TZID=UTC:20260617T210000
DTSTAMP:20260425T004348
CREATED:20260114T115839Z
LAST-MODIFIED:20260114T120037Z
UID:31546-1781712000-1781730000@svaleredencamping.dk
SUMMARY:Det sker i Sæby: SLOTSLØBET
DESCRIPTION:Sæbygaard Slotsløb – sommerløb i smukke omgivelserOplev et stemningsfuldt motionsløb i historiske rammer med start og mål på slotspladsen – og en helt særlig afslutning over voldgraven via den nye bro.\nVælg mellem Run & Walk på 4\, 7\, 14\, 21 eller 42 km.Alle kan være med – uanset tempo og erfaring. \n✔ Medalje\, forplejning og runners menu✔ Hyggeligt samvær på slotspladsen✔ Startgebyr: 140 kr. \nSe mere og tilmeld dig HER  \nSidste tilmelding: 16.06.2026 (kan blive udsolgt før) \nArrangør: Løb 4 Sagen\nhttps://xn--lb4sagen-54a.dk/
URL:https://svaleredencamping.dk/aktiviteter/det-sker-i-saeby-slotsloebet/
LOCATION:Sæbygård Slot\, Sæbygårdvej 49\, Sæby\, 9300\, Denmark
CATEGORIES:Det sker i Sæby,Events,Løbe event,Sæbygård Slot
ATTACH;FMTTYPE=image/jpeg:https://svaleredencamping.dk/wp-content/uploads/2026/01/sLOTSLOeBET-sAeBYGAARD.jpeg
END:VEVENT
BEGIN:VEVENT
DTSTART;TZID=UTC:20260619T222200
DTEND;TZID=UTC:20260620T080000
DTSTAMP:20260425T004348
CREATED:20260106T132847Z
LAST-MODIFIED:20260106T133924Z
UID:31417-1781907720-1781942400@svaleredencamping.dk
SUMMARY:Det sker i området: Coast2Coast 2026
DESCRIPTION:Coast2Coast 2026 – Det bliver SÅ godt!\n\nCoast2Coast er Danmarks største og hyggeligste natlige motionsevent på årets korteste nat – fra vest til øst – fra solnedgang til solopgang. \nVi ses 19. juni kl. 22:22 til en helt særlig oplevelse på tværs af Vendsyssel – midt i den lyse\, magiske midsommernat. \nI nattens mulm og mørke bevæger vi os afsted fra Skallerup Seaside Resort eller Hirtshals\, mens solen får lov at hvile.\nTimerne senere bliver vi mødt af solopgangen på Palmestranden – et øjeblik\, der bare skal opleves. \nLangs ruterne står vores fantastiske hjælpere klar med lækre depoter\, god stemning og alt det\, der skal til for at holde dig kørende hele vejen.Det her er fællesskab\, udfordring og oplevelse – samlet i én nat. \n\n\n\nDistancer 2026\n\n\n• 25 km Walk\n• 50 km Run\n• 50 km Bike & Run (2 pers. – 1 cykel)\n• 61 km Ultrarun\n• 61 km Ultra Bike & Run (2 pers. – 1 cykel)\n↳ Begge ultraruter starter i Hirtshals kl. 21:21 \n• 75 km Hyggeruten\n• 100 km MTB\n• 135 km MTB\n\n• 105 km Vendsysselruten \n\n\n\n Tilmelding: www.sportstiming.dk/event/16515\n\n\n\n\nDe bedste Coast2Coast hilsner fra Kent & Rico\n\n\n\nOvernatning på Svalereden Strand Camping\nSvalereden Strand Camping har hvert år deltagere boende\, som deltager i Coast2Coast.Vi tilbyder hytter\, værelser\, lejligheder samt pladser til egen campingvogn eller autocamper.\nKontakt os gerne på info@svaleredencamping.dk for evt. ledige overnatningsmuligheder.
URL:https://svaleredencamping.dk/aktiviteter/coast2coast-2026/
CATEGORIES:Det sker i Frederikshavn,Events
ATTACH;FMTTYPE=image/jpeg:https://svaleredencamping.dk/wp-content/uploads/2026/01/Coast-2-Coast-2026.jpg
END:VEVENT
END:VCALENDAR