BEGIN:VCALENDAR
VERSION:2.0
PRODID:-//Svalereden Strand Camping - ECPv6.13.0//NONSGML v1.0//EN
CALSCALE:GREGORIAN
METHOD:PUBLISH
X-ORIGINAL-URL:https://svaleredencamping.dk
X-WR-CALDESC:Begivenheder for Svalereden Strand Camping
REFRESH-INTERVAL;VALUE=DURATION:PT1H
X-Robots-Tag:noindex
X-PUBLISHED-TTL:PT1H
BEGIN:VTIMEZONE
TZID:UTC
BEGIN:STANDARD
TZOFFSETFROM:+0000
TZOFFSETTO:+0000
TZNAME:UTC
DTSTART:20250101T000000
END:STANDARD
END:VTIMEZONE
BEGIN:VEVENT
DTSTART;TZID=UTC:20251205T100000
DTEND;TZID=UTC:20251207T160000
DTSTAMP:20260425T205510
CREATED:20251012T061811Z
LAST-MODIFIED:20251012T061811Z
UID:31077-1764928800-1765123200@svaleredencamping.dk
SUMMARY:Eventyrlig jul på Voergaard Slot
DESCRIPTION:Eventyrlig jul på Voergaard Slot\n28. – 30. november 2025\n5. – 7. december 2025 \n\n\nAlle dage fra 10-16\n\nDu og familien er garanteret julestemning\, når I besøger Voergaard i juledagene. Her får du skønhed\, hyggelig stemning\, walk-around underholdning\, lækker mad og mulighed for at finde en god gave og delikatesser til juledagene.\nHelt usædvanligt kan du få lov til at gå rundt på slottet i dit eget tempo og nyde de smukke saloner og Bjarne Als fra Bering House of Flowers kreative og overdådige udsmykning. Bjarne Als vil selv være til stede i pop-up butikken. Du kan også finde ny inspiration til dine juledekorationer ved Bjarnes to daglige inspirationsdemonstrationer.\nI Ridehallen og rundt omkring på slottets arealer finder du stemningsfyldte boder med både lækkerier og mulighed for at gøre gode julegaveindkøb\, spise dig mæt i dejlig julemad eller nyde et glas gløgg og gode æbleskiver.\n\nKøb billetter HER
URL:https://svaleredencamping.dk/aktiviteter/eventyrlig-jul-paa-voergaard-slot-2/
LOCATION:Voergaard Slot\, Voergård 6\, Dronninglund\, 9330
CATEGORIES:Julemarked,Voergaard Slot
ATTACH;FMTTYPE=image/jpeg:https://svaleredencamping.dk/wp-content/uploads/2025/10/Jul-paa-Voergaard.jpg
END:VEVENT
BEGIN:VEVENT
DTSTART;TZID=UTC:20251206T100000
DTEND;TZID=UTC:20251207T160000
DTSTAMP:20260425T205510
CREATED:20251012T064259Z
LAST-MODIFIED:20251012T064259Z
UID:31087-1765015200-1765123200@svaleredencamping.dk
SUMMARY:Jul på Knivholt
DESCRIPTION:Så er der igen tid til årets julemarked.\nKig forbi Knivholt lørdag den 6. og søndag den 7. dec. mellem kl. 10-16.\n\nHer kan du bl.a. finde juledekorationer\, julepynt\, nisse\, håndarbejde\, kunst og meget mere.Du vil også kunne finde forskellige boder der sælger alt fra frugt\, oste\, mjød\, the og honning.\nHvis sulten og tørsten melder sig\, er der caféer med blandt andet æbleskiver\, gløgg\, grillpølser\, øl og sodavand.\n\nDer vil være rig mulighed for at finde årets julegave.\n\nSå kom og bliv smittet af julestemningen den første weekend i december.\n\nDer er gratis adgang til folkets herregård for alle. Kommer du i bil\, koster parkeringen kun 30 kr.
URL:https://svaleredencamping.dk/aktiviteter/jul-paa-knivholt/
LOCATION:Knivholt Hovedgaard\, Hjørringvej 180\, Frederikshavn\, 9900\, Denmark
CATEGORIES:Det sker i Frederikshavn,Julemarked
ATTACH;FMTTYPE=image/jpeg:https://svaleredencamping.dk/wp-content/uploads/2025/10/Jul-paa-Knivholt-Hovedgaard.jpg
END:VEVENT
END:VCALENDAR