BEGIN:VCALENDAR
VERSION:2.0
PRODID:-//Svalereden Strand Camping - ECPv6.13.0//NONSGML v1.0//EN
CALSCALE:GREGORIAN
METHOD:PUBLISH
X-ORIGINAL-URL:https://svaleredencamping.dk
X-WR-CALDESC:Begivenheder for Svalereden Strand Camping
REFRESH-INTERVAL;VALUE=DURATION:PT1H
X-Robots-Tag:noindex
X-PUBLISHED-TTL:PT1H
BEGIN:VTIMEZONE
TZID:UTC
BEGIN:STANDARD
TZOFFSETFROM:+0000
TZOFFSETTO:+0000
TZNAME:UTC
DTSTART:20250101T000000
END:STANDARD
END:VTIMEZONE
BEGIN:VEVENT
DTSTART;TZID=UTC:20251203T130000
DTEND;TZID=UTC:20251203T150000
DTSTAMP:20260424T225105
CREATED:20251012T074149Z
LAST-MODIFIED:20251012T074149Z
UID:31101-1764766800-1764774000@svaleredencamping.dk
SUMMARY:Vintertur i Sæby
DESCRIPTION:Oplev den smukke Sæby Kirke. Du mødes med vores guide foran Sæby Kirke til en omvisning indenfor med efterfølgende fortælling om byens historie også. \n\n\n\n\n\nKirkens egentlige navn er Skt. Mariæ Kirke\, og den kirke du ser\, er hvad der er tilbage af et stort firefløjet karmeliterkloster\, som med Børglumbispens hjælp blev oprettet i Sæby omkring 1470. Klosteret blev nedlagt i 1536\, efter reformationens indførelse i Danmark. \nKirken er\, med rette\, berømt for de fantastiske kalkmalerier der pryder loftet. Kalkmalerierne stammer fra begyndelsen af 1500-tallet\, og de fortæller historien om Marias forældre. \nEfter et spændende besøg i kirken\, går turen videre til den gamle bydel med lave hyggelige huse. \nGuiden fortæller undervejs bl.a. om de gamle digtere\, der i sidste århundrede yndede at tage ophold i den charmerende købstad for at få ro til at skrive. \nTuren afsluttes med et lille glas gløgg hos  Vinuniverset – Norhvin. \nPraktisk information \nDer er ture disse dage:\nOnsdag 19. november\, 26. november\, 3. december og 10. december \nTuren starter:\nKl. 13.00 og slutter kl. 15.00 \nPris:\nKr. 150\,- pr. person inkl. et lille glas gløgg \nMødested:\nForan Sæby Kirke\, Strandgade 5A\, 9300 Sæby \nBemærk! Turen gennemføres kun ved min. 6 betalende gæster – forudbestilling nødvendig.
URL:https://svaleredencamping.dk/aktiviteter/vintertur-i-saeby-3/
LOCATION:Sæby Kirke\, Strandgade 5A\, Sæby\, 9300\, Denmark
CATEGORIES:Det sker i Sæby,Events,Jul i Sæby
ATTACH;FMTTYPE=image/jpeg:https://svaleredencamping.dk/wp-content/uploads/2025/10/Vintertur-i-Saeby.jpg
END:VEVENT
BEGIN:VEVENT
DTSTART;TZID=UTC:20251205T100000
DTEND;TZID=UTC:20251205T200000
DTSTAMP:20260424T225105
CREATED:20251126T065345Z
LAST-MODIFIED:20251126T065345Z
UID:31169-1764928800-1764964800@svaleredencamping.dk
SUMMARY:Jul i Sæby - Open by Christmas
DESCRIPTION:Julestemningen spreder sig i Sæby! Fredag den 5. december forvandles byen til et lille juleeventyr\, når Open by Christmas holder åbent helt til kl. 20.Kom og mærk magien på Torvet – her sker der noget for både store og små: Sæby Garden fylder Torvet med julemusik kl. 18–19 Bimse og Bamse deler søde julegodter ud kl. 17–19 Julemanden og hans nisser kigger forbi kl. 17–19 Og glem ikke at gå på opdagelse i de hyggelige julehuse\, hvor der frister med lækre julegodter og små skatte.Kom og oplev stemningen\, lyset og juleglæden – vi glæder os til at se dig! Sæby Handel
URL:https://svaleredencamping.dk/aktiviteter/jul-i-saeby-open-by-christmas/
LOCATION:Rundt om i Sæby\, Sæby\, 9300\, Denmark
CATEGORIES:Det sker i Sæby,Events,Jul i Sæby
ATTACH;FMTTYPE=image/jpeg:https://svaleredencamping.dk/wp-content/uploads/2025/11/5.-december-Jul-i-Saeby.jpg
END:VEVENT
BEGIN:VEVENT
DTSTART;TZID=UTC:20251206T110000
DTEND;TZID=UTC:20251206T130000
DTSTAMP:20260424T225105
CREATED:20251201T101310Z
LAST-MODIFIED:20251201T101310Z
UID:31175-1765018800-1765026000@svaleredencamping.dk
SUMMARY:Jul i Sæby: Julemanden kommer med en brandsprøjte
DESCRIPTION:Julemanden ankommer til Sæby Torv med brandsprøjte med start fra SuperBrugsen kl. 11. \nGardens nisseorkester spiller rundt i byen ved butikkerne kl. 11 -12.30. \nSlikposer til alle børn uddeles på Torvet kl. 12. \nKøb lækkerier i julehusene.
URL:https://svaleredencamping.dk/aktiviteter/julemanden-saeby-ankommer-til-saeby-torv-kl-11/
LOCATION:Sæby Torv\, Vestergade 24\, Sæby\, 9300\, Denmark
CATEGORIES:Det sker i Sæby,Jul i Sæby,Sæby Handelsstandsforening
ATTACH;FMTTYPE=image/jpeg:https://svaleredencamping.dk/wp-content/uploads/2025/12/Jul-i-Saeby-december.jpg
END:VEVENT
BEGIN:VEVENT
DTSTART;TZID=UTC:20251207T110000
DTEND;TZID=UTC:20251207T150000
DTSTAMP:20260424T225105
CREATED:20251201T102815Z
LAST-MODIFIED:20251201T102901Z
UID:31183-1765105200-1765119600@svaleredencamping.dk
SUMMARY:Sæby Torv: MAS Koret synger julen ind
DESCRIPTION:Julen bliver sunget ind med MAS Koret\, der optræder på Torvet kl. 11.30. \nDeres smukke stemmer spreder ro og varme midt i den travle juletid. \nButikkerne holder åbent kl. 11-15 og der er masser af liv i byen. \n\n\n\n\n\nJulemanden og hans nisser tager imod i julehuset fra kl. 11-13\, mens Bimse og Bamse går rundt og deler julegodter ud fra kl. 12-14. \nOg som altid kan du finde masser af julehygge og smagfulde lækkerier i julehusene.
URL:https://svaleredencamping.dk/aktiviteter/mas-koret-synger-jul-i-saeby/
LOCATION:Sæby Torv\, Vestergade 24\, Sæby\, 9300\, Denmark
CATEGORIES:Det sker i Sæby,Jul i Sæby,Julemarked,Sæby Handelsstandsforening
ATTACH;FMTTYPE=image/jpeg:https://svaleredencamping.dk/wp-content/uploads/2025/12/Jul-i-Saeby-december.jpg
END:VEVENT
BEGIN:VEVENT
DTSTART;TZID=UTC:20251210T130000
DTEND;TZID=UTC:20251210T150000
DTSTAMP:20260424T225105
CREATED:20251012T074302Z
LAST-MODIFIED:20251012T074302Z
UID:31104-1765371600-1765378800@svaleredencamping.dk
SUMMARY:Vintertur i Sæby
DESCRIPTION:Oplev den smukke Sæby Kirke. Du mødes med vores guide foran Sæby Kirke til en omvisning indenfor med efterfølgende fortælling om byens historie også. \n\n\n\n\n\nKirkens egentlige navn er Skt. Mariæ Kirke\, og den kirke du ser\, er hvad der er tilbage af et stort firefløjet karmeliterkloster\, som med Børglumbispens hjælp blev oprettet i Sæby omkring 1470. Klosteret blev nedlagt i 1536\, efter reformationens indførelse i Danmark. \nKirken er\, med rette\, berømt for de fantastiske kalkmalerier der pryder loftet. Kalkmalerierne stammer fra begyndelsen af 1500-tallet\, og de fortæller historien om Marias forældre. \nEfter et spændende besøg i kirken\, går turen videre til den gamle bydel med lave hyggelige huse. \nGuiden fortæller undervejs bl.a. om de gamle digtere\, der i sidste århundrede yndede at tage ophold i den charmerende købstad for at få ro til at skrive. \nTuren afsluttes med et lille glas gløgg hos  Vinuniverset – Norhvin. \nPraktisk information \nDer er ture disse dage:\nOnsdag 19. november\, 26. november\, 3. december og 10. december \nTuren starter:\nKl. 13.00 og slutter kl. 15.00 \nPris:\nKr. 150\,- pr. person inkl. et lille glas gløgg \nMødested:\nForan Sæby Kirke\, Strandgade 5A\, 9300 Sæby \nBemærk! Turen gennemføres kun ved min. 6 betalende gæster – forudbestilling nødvendig.
URL:https://svaleredencamping.dk/aktiviteter/vintertur-i-saeby-4/
LOCATION:Sæby Kirke\, Strandgade 5A\, Sæby\, 9300\, Denmark
CATEGORIES:Det sker i Sæby,Events,Jul i Sæby
ATTACH;FMTTYPE=image/jpeg:https://svaleredencamping.dk/wp-content/uploads/2025/10/Vintertur-i-Saeby.jpg
END:VEVENT
BEGIN:VEVENT
DTSTART;TZID=UTC:20251213T110000
DTEND;TZID=UTC:20251213T130000
DTSTAMP:20260424T225105
CREATED:20251201T103942Z
LAST-MODIFIED:20251201T103942Z
UID:31185-1765623600-1765630800@svaleredencamping.dk
SUMMARY:Sæby Torv: Luciaoptog og julemagi i Sæby
DESCRIPTION:Oplev den smukkeste tradition\, når Friskolen går Luciaoptog gennem byen med start ved Nordjyske Bank kl. 11.00. De hvide kjoler\, levende lys og sangen bringer en særlig fredfyldt stemning til Sæby denne dag. \n\n\n\n\n\n\nJulemanden og nisserne er i huset fra kl. 11-13 \nBimse og Bamse deler julegodter ud i samme tidsrum. \nTag en pause midt i juletravlheden\, nyd musikken\, duften og stemningen og besøg julehusene for lidt ekstra juleforkælelse.
URL:https://svaleredencamping.dk/aktiviteter/oplev-luciaoptog-saeby-friskolen-kl-11-00/
LOCATION:Sæby Torv\, Vestergade 24\, Sæby\, 9300\, Denmark
CATEGORIES:Det sker i Sæby,Jul i Sæby
ATTACH;FMTTYPE=image/jpeg:https://svaleredencamping.dk/wp-content/uploads/2025/12/Luciaoptog.jpeg
END:VEVENT
BEGIN:VEVENT
DTSTART;TZID=UTC:20251220T093000
DTEND;TZID=UTC:20251220T173000
DTSTAMP:20260424T225105
CREATED:20251217T094416Z
LAST-MODIFIED:20251217T094416Z
UID:31382-1766223000-1766251800@svaleredencamping.dk
SUMMARY:Julehygge og musik i Sæby
DESCRIPTION:Butikkerne holder åbent kl. 9.30/10.00-17.30. \nSæby kirke fortælling og sang kl. 11. \nGardens nisseorkester spiller rundt i byen ved butikkerne kl. 11.30-13.30. \nJulemanden er i sit hus kl. 11-13. \nBimse og Bamse deler julegodter ud kl. 11-13 \nKøb lækkerier i julehusene
URL:https://svaleredencamping.dk/aktiviteter/julehygge-og-musik-i-saeby/
LOCATION:Rundt om i Sæby\, Sæby\, 9300\, Denmark
CATEGORIES:Det sker i Sæby,Events,Jul i Sæby,Sæby Handelsstandsforening
ATTACH;FMTTYPE=image/jpeg:https://svaleredencamping.dk/wp-content/uploads/2025/12/Saeby-Handel-20.-december.jpg
END:VEVENT
END:VCALENDAR