BEGIN:VCALENDAR
VERSION:2.0
PRODID:-//Svalereden Strand Camping - ECPv6.13.0//NONSGML v1.0//EN
CALSCALE:GREGORIAN
METHOD:PUBLISH
X-ORIGINAL-URL:https://svaleredencamping.dk
X-WR-CALDESC:Begivenheder for Svalereden Strand Camping
REFRESH-INTERVAL;VALUE=DURATION:PT1H
X-Robots-Tag:noindex
X-PUBLISHED-TTL:PT1H
BEGIN:VTIMEZONE
TZID:UTC
BEGIN:STANDARD
TZOFFSETFROM:+0000
TZOFFSETTO:+0000
TZNAME:UTC
DTSTART:20260101T000000
END:STANDARD
END:VTIMEZONE
BEGIN:VEVENT
DTSTART;TZID=UTC:20260422T170000
DTEND;TZID=UTC:20260422T200000
DTSTAMP:20260425T010132
CREATED:20260114T120947Z
LAST-MODIFIED:20260114T121210Z
UID:31551-1776877200-1776888000@svaleredencamping.dk
SUMMARY:Det sker i Sæby: Trail Light-løb i smuk natur ved Professorens Plantage
DESCRIPTION:EAST COAST TRAIL 2026 – Oplev Kattegatkysten\nTrail Light-løb i smuk natur ved Professorens Plantage mellem Sæby og Lyngså – væk fra asfalt\, trafik og larm. \nLøb: 5\,3 / 10\,6 / 15\,9 / 21\,1 kmWalk: 5\,3 / 10\,6 km (modsat løberne) \nPris: 125 kr. uanset distanceStart & mål: Shelterpladsen\, Professorens Plantage (100 m fra parkering) \nProfessorens Plantage: Indkørsel ovefor Gården\, Solsbækvej 272  9300 Sæby\nMarkeret med flag og skilt: East Coast Trail \n✔ Flot metalmedalje\, depotforplejning og grillmenu✔ Hygge i målområdet med bål✔ Godt afmærket rute og enestående naturoplevelse \n⏱ Max tid: 3 timer | 👥 Max 150 deltagere \nSE MERE HER – HVOR DU OGSÅ KAN TILMELDE DIG \nArr.: Løb 4 Sagen
URL:https://svaleredencamping.dk/aktiviteter/31551/
CATEGORIES:Det sker i Sæby,Løbe event
ATTACH;FMTTYPE=image/jpeg:https://svaleredencamping.dk/wp-content/uploads/2026/01/Trail-of-LOVE.jpg
END:VEVENT
END:VCALENDAR