BEGIN:VCALENDAR
VERSION:2.0
PRODID:-//Svalereden Strand Camping - ECPv6.13.0//NONSGML v1.0//EN
CALSCALE:GREGORIAN
METHOD:PUBLISH
X-WR-CALNAME:Svalereden Strand Camping
X-ORIGINAL-URL:https://svaleredencamping.dk
X-WR-CALDESC:Begivenheder for Svalereden Strand Camping
REFRESH-INTERVAL;VALUE=DURATION:PT1H
X-Robots-Tag:noindex
X-PUBLISHED-TTL:PT1H
BEGIN:VTIMEZONE
TZID:UTC
BEGIN:STANDARD
TZOFFSETFROM:+0000
TZOFFSETTO:+0000
TZNAME:UTC
DTSTART:20260101T000000
END:STANDARD
END:VTIMEZONE
BEGIN:VEVENT
DTSTART;TZID=UTC:20260403T100000
DTEND;TZID=UTC:20260403T120000
DTSTAMP:20260424T212532
CREATED:20260209T092524Z
LAST-MODIFIED:20260209T092746Z
UID:31662-1775210400-1775217600@svaleredencamping.dk
SUMMARY:Saunahygge i påsken
DESCRIPTION:SAUNAHYTTEN\nNyd varmen i saunaen – og mærk det kolde gys i havet. \n• Stort panoramavindue med udsigt over havets bølger• Plads til op til 12 siddende gæster• Toilet og bad findes i bygning G (ca. 100 m) \nMedbring badetøj og et stort håndklæde – så skaber vi rammerne for en fantastisk oplevelse! \nPris for deltagelse\n\nGratis for campingpladsens gæster\nØvrige: DKK 50\,00 pr. personBetaling sker ved bestilling i receptionen. \nFoto: Michael Asp
URL:https://svaleredencamping.dk/aktiviteter/saunahygge-i-paasken-2/
LOCATION:Svalereden Strand Camping\, Frederikshavnsvej 112B\, Sæby\, 9300\, Denmark
CATEGORIES:Aktiviteter,Wellness & afslapning,Wellness og vinterbadning
ATTACH;FMTTYPE=image/jpeg:https://svaleredencamping.dk/wp-content/uploads/2025/12/Sauna-taget-i-brug-den-23.-december-Sebastian-og-kammerat.jpg
ORGANIZER;CN="Svalereden Strand Camping":MAILTO:info@svaleredencamping.dk
END:VEVENT
END:VCALENDAR