BEGIN:VCALENDAR
VERSION:2.0
PRODID:-//Svalereden Strand Camping - ECPv6.13.0//NONSGML v1.0//EN
CALSCALE:GREGORIAN
METHOD:PUBLISH
X-WR-CALNAME:Svalereden Strand Camping
X-ORIGINAL-URL:https://svaleredencamping.dk
X-WR-CALDESC:Begivenheder for Svalereden Strand Camping
REFRESH-INTERVAL;VALUE=DURATION:PT1H
X-Robots-Tag:noindex
X-PUBLISHED-TTL:PT1H
BEGIN:VTIMEZONE
TZID:UTC
BEGIN:STANDARD
TZOFFSETFROM:+0000
TZOFFSETTO:+0000
TZNAME:UTC
DTSTART:20260101T000000
END:STANDARD
END:VTIMEZONE
BEGIN:VEVENT
DTSTART;TZID=UTC:20260204T153000
DTEND;TZID=UTC:20260204T203000
DTSTAMP:20260424T164450
CREATED:20260201T090533Z
LAST-MODIFIED:20260201T090533Z
UID:31595-1770219000-1770237000@svaleredencamping.dk
SUMMARY:Sæby Svømmebad: Wellness onsdag
DESCRIPTION:Snart er det februar måned og vi er selvfølgelig klar til at hygge om jer med endnu en skøn Wellness onsdag med en hjemmelavet menu fra Caféen\,\n\n\n\nInviter en god veninde\, kæreste eller kammerat med i wellness Onsdag den 4. februar.\n\n\n\nPå denne aften vil der være fokus på hygge\, afslapning og velvære\, hvor I kan nyde den lækre hjemmelavede menu\, tilberedt af vores dygtige Cafépersonale.\n\n\n\nDet er muligt at deltage i op til 6 SaunaGus og hvis man også ønsker at være lidt aktiv\, er der Vandgymnastik kl. 15.30 i vores varmtvandsbassin.\n\n\nIndimellem de mange SaunaGus kan du nyde vores dampsauna\, spabade\, varmtvandsbassin\, koldtvandsbassin\, ude-badet og ude-bruser på terrassen eller\nden infrarøde Sauna (𝑃𝑜𝑙𝑙𝑒𝑡 𝑘ø𝑏𝑒𝑠 𝑖 𝑎𝑢𝑡𝑜𝑚𝑎𝑡𝑒𝑛 𝑖 𝑐𝑎𝑓𝑒𝑒𝑛/ 30 𝑚𝑖𝑛 = 20 𝑘𝑟.)\n\n\n\nAftenens første SaunaGus udføres kl. 16.30\nDato: 4. februar 2026\n𝐒𝐢𝐝𝐬𝐭𝐞 𝐭𝐢𝐥𝐦𝐞𝐥𝐝𝐢𝐧𝐠: 31. januar 2026\n\n\n\n𝑩𝒆𝒔𝒕𝒊𝒍 𝒂𝒍𝒍𝒆𝒓𝒆𝒅𝒆 𝒊𝒅𝒂𝒈\, 𝒗𝒊 𝒉𝒂𝒓 50 𝒃𝒊𝒍𝒍𝒆𝒕𝒕𝒆𝒓!\n𝑇𝑖𝑙𝑚𝑒𝑙𝑑𝑖𝑛𝑔 𝑠𝑘𝑒𝑟 𝑖 𝑣𝑜𝑟𝑒𝑠 𝐶𝑎𝑓𝑒́\, 𝑘𝑖𝑔 𝑓𝑜𝑟𝑏𝑖 𝑒𝑙𝑙𝑒𝑟 𝑟𝑖𝑛𝑔 𝑝𝑎̊ – 𝑇𝑙𝑓: 24 20 82 60\n\n\n\n𝐏𝐑𝐈𝐒: 𝐄𝐧𝐭𝐫𝐞𝐛𝐢𝐥𝐥𝐞𝐭 + 𝟗𝟎 𝐤𝐫. (𝐟𝐨𝐫 𝐦𝐚𝐝 + 𝟏 𝐠𝐞𝐧𝐬𝐭𝐚𝐧𝐝)\n– 𝐷𝑢 𝑘𝑎𝑛 𝑎𝑛𝑣𝑒𝑛𝑑𝑒 𝑑𝑖𝑡 𝐹𝐾𝐼 – 𝑘𝑜𝑟𝑡\, 𝑠𝑜𝑚 𝑒𝑛𝑡𝑟𝑒́𝑏𝑖𝑙𝑙𝑒𝑡 𝑑𝑒𝑛𝑛𝑒 𝑎𝑓𝑡𝑒𝑛.\n\n\n\n𝑴𝑬𝑵𝑼́: Flæskestegsburger (æ𝑛𝑑𝑟𝑖𝑛𝑔 𝑘𝑎𝑛 𝑓𝑜𝑟𝑒𝑘𝑜𝑚𝑚𝑒)\n– MENUEN denne dag\, SKAL forudbestilles og kan ikke købes på selve dagen!\n\n\n\nVi glæder os til at se jer til gus i det nye år.\n\n\nSæby Svømmebad
URL:https://svaleredencamping.dk/aktiviteter/saeby-svoemmebad-wellness-onsdag/
LOCATION:Sæby Svømmebad\, Rådhuspladsen 3\, Sæby\, 9300
CATEGORIES:Det sker i Sæby,Events,Sæby Svømmebad
ATTACH;FMTTYPE=image/jpeg:https://svaleredencamping.dk/wp-content/uploads/2026/02/Wellness-onsdag-2026.jpg
END:VEVENT
BEGIN:VEVENT
DTSTART;TZID=UTC:20260206T140000
DTEND;TZID=UTC:20260206T200000
DTSTAMP:20260424T164450
CREATED:20260201T084929Z
LAST-MODIFIED:20260201T085138Z
UID:31587-1770386400-1770408000@svaleredencamping.dk
SUMMARY:Sæby Svømmebad: Familiedag
DESCRIPTION:𝑯𝒗𝒂𝒅 𝒆𝒓 𝑭𝒂𝒎𝒊𝒍𝒊𝒆𝒅𝒂𝒈?\n\n\n– På familiedage åbnes dørene til hele svømmehallen. Det vil sige\, at I sammen som Familie\, kan benytte alle faciliteter i huset\, både Svømmehal og Wellness.\n\n\nTag en svømmetur i vores 25 meters bassin\, spil boldt i morskabsbassinet eller få et sus i maven\, når du tager en tur i den store Rutsjebane. I vores babybassin er der både en lille rutsjebane\, en papegøje og en masse legetøj til en god vandleg \n\n\nNyd varmen i vores Sauna\, Dampsauna eller Spabade og bliv kølet ned i vores indendørs koldtvandsbassin! På terrassen kan I også nyde ude-badet under åben himmel. \n\n\n\n– På familiedage vil der være forskellige planlagte aktiviteter til børn. \n\n\n\nSkulle sulten melde sig\, så er Caféen klar til at lave lidt lækkert.\n– Det er muligt\, at nyde maden inde i svømmehallen og ude i Caféen. Bestil i god til så du undgår for meget ventetid!\n\n\n\n PRIS denne dag er – 68 kr. pr. Person (𝐹𝑟𝑎 2 𝑎̊𝑟 +)\n\n\n 𝐵ø𝑟𝑛 𝑢𝑛𝑑𝑒𝑟 2 𝑎̊𝑟 𝑒𝑟 𝐺𝑟𝑎𝑡𝑖𝑠\, 𝑖 𝑓ø𝑙𝑔𝑒 𝑚𝑒𝑑 𝑒𝑛 𝑏𝑎𝑑𝑒𝑛𝑑𝑒 𝑣𝑜𝑘𝑠𝑒𝑛!\n\n\n CAFE: Køkkenet i vores Cafe holder åbent til kl. 19.00.\n𝑉𝑒𝑑 𝑡𝑟𝑎𝑣𝑙ℎ𝑒𝑑 𝑙𝑢𝑘𝑘𝑒𝑟 𝑘ø𝑘𝑘𝑒𝑛𝑒𝑡 evt. 𝑡𝑖𝑑𝑙𝑖𝑔𝑒𝑟𝑒.\n\n\n\nVi glæder os til at se jer i Sæby Svømmebad
URL:https://svaleredencamping.dk/aktiviteter/saeby-svoemmebad-familiedag-5/
LOCATION:Sæby Svømmebad\, Rådhuspladsen 3\, Sæby\, 9300
CATEGORIES:Det sker i Sæby,Events,Sæby Svømmebad
ATTACH;FMTTYPE=image/jpeg:https://svaleredencamping.dk/wp-content/uploads/2025/06/Familiedag-27.-juni-2025-e1750835087802.jpg
END:VEVENT
BEGIN:VEVENT
DTSTART;TZID=UTC:20260213T153000
DTEND;TZID=UTC:20260213T203000
DTSTAMP:20260424T164450
CREATED:20260201T085807Z
LAST-MODIFIED:20260201T085807Z
UID:31591-1770996600-1771014600@svaleredencamping.dk
SUMMARY:Sæby Svømmebad: 𝑲æ𝒓𝒍𝒊𝒈𝒉𝒆𝒅 𝒐𝒈 𝒃𝒐𝒃𝒍𝒆𝒓
DESCRIPTION:𝑲æ𝒓𝒍𝒊𝒈𝒉𝒆𝒅 𝒐𝒈 𝒃𝒐𝒃𝒍𝒆𝒓 𝒊 𝑺æ𝒃𝒚 𝑺𝒗ø𝒎𝒎𝒆𝒃𝒂𝒅 \n\n\n\nKalenderen skriver snart februar som indeholder valentinsdag den 14. februar. \n\n\n\nDet fejre vi selvfølgelig her i Sæby Svømmebad og vi inviterer derfor alle par til en hyggelig aften i wellness fredag den 13. februar.\nVi har lavet et lækkert tilbud til jer der ønsker at fejre kærligheden. Nyd sammen et par timer i skønne omgivelser med ro og velvære.\n\n\n\n𝐓𝐈𝐋𝐁𝐔𝐃\n– Vi giver ét glas gratis bobler og frugt med i din entre denne dag\n\n\n𝐃𝐚𝐭𝐨: Fredag den 13/02-2026\n\n\n𝐓𝐢𝐝𝐬𝐩𝐮𝐧𝐤𝐭: Fra kl. 15.30 – 20.30\n(𝐴𝑙𝑙𝑒 𝑘𝑎𝑙𝑑𝑒𝑠 𝑜𝑝 𝑎𝑓 𝑣𝑎𝑛𝑑𝑒𝑡 𝑘𝑙. 20.00)\n\n\n\n𝑯𝒗𝒂𝒅 𝒔𝒌𝒆𝒓 𝒅𝒆𝒓 𝒑𝒂̊ 𝒆𝒏 𝑭𝒓𝒆𝒅𝒂𝒈𝒔-𝒘𝒆𝒍𝒍𝒏𝒆𝒔𝒔𝒂𝒇𝒕𝒆𝒏?\nDenne aften er der fokus på hygge\, afslapning og velvære med mulighed for at nyde en lækker menu fra Caféen.\n\n\nDer udføres 6 SaunaGus i løbet af aftenen og indimellem de mange SaunaGus kan du nyde en tur i vores Dampsauna\, Spabade\, Varmtvandsbassin\, Koldtvandsbassin\, Ude-badet og Ude-bruser på terrassen eller Infrarød Sauna.\n(𝑃𝑜𝑙𝑙𝑒𝑡 𝑘ø𝑏𝑒𝑠 𝑖 𝑎𝑢𝑡𝑜𝑚𝑎𝑡𝑒𝑛 𝑖 𝑐𝑎𝑓𝑒𝑒𝑛/ 30 𝑚𝑖𝑛 = 20 𝑘𝑟.)\n\n\n\nAftenens første SaunaGus er kl. 16.30.\n\n\n\nVi glæder os til at se jer!\nSæby Svømmebad
URL:https://svaleredencamping.dk/aktiviteter/saeby-svoemmebad-%f0%9d%91%b2ae%f0%9d%92%93%f0%9d%92%8d%f0%9d%92%8a%f0%9d%92%88%f0%9d%92%89%f0%9d%92%86%f0%9d%92%85-%f0%9d%92%90%f0%9d%92%88-%f0%9d%92%83%f0%9d%92%90%f0%9d%92%83%f0%9d%92%8d/
LOCATION:Sæby Svømmebad\, Rådhuspladsen 3\, Sæby\, 9300
CATEGORIES:Det sker i Sæby,Events,Sæby Svømmebad
ATTACH;FMTTYPE=image/jpeg:https://svaleredencamping.dk/wp-content/uploads/2026/02/Valentindag-i-Saeby-Svoemmebad.jpg
END:VEVENT
END:VCALENDAR