BEGIN:VCALENDAR
VERSION:2.0
PRODID:-//Svalereden Strand Camping - ECPv6.13.0//NONSGML v1.0//EN
CALSCALE:GREGORIAN
METHOD:PUBLISH
X-ORIGINAL-URL:https://svaleredencamping.dk
X-WR-CALDESC:Begivenheder for Svalereden Strand Camping
REFRESH-INTERVAL;VALUE=DURATION:PT1H
X-Robots-Tag:noindex
X-PUBLISHED-TTL:PT1H
BEGIN:VTIMEZONE
TZID:UTC
BEGIN:STANDARD
TZOFFSETFROM:+0000
TZOFFSETTO:+0000
TZNAME:UTC
DTSTART:20250101T000000
END:STANDARD
END:VTIMEZONE
BEGIN:VEVENT
DTSTART;TZID=UTC:20251116T160000
DTEND;TZID=UTC:20251116T173000
DTSTAMP:20260424T231607
CREATED:20251009T092717Z
LAST-MODIFIED:20251009T092731Z
UID:30984-1763308800-1763314200@svaleredencamping.dk
SUMMARY:Sæby Kirke: Julekoncert med Trine Gadeberg med duo
DESCRIPTION:  \nI forbindelse med Rotarys arbejde for at sætte fokus på mental sundhed præsenterer Rotary én af Danmarks populæreste kvindelige sangere/entertainere Trine Gadeberg til en række julekoncerter i nord- og midtjyske kirker. Her venter der publikum en unik koncertoplevelse fuld af vellyd\, smil og julestemning i skønne kirker. Overskuddet fra koncerterne går til Headspace\, der hjælper unge med mentale udfordringer. \n  \nDet er ikke for ingenting\, at Trine Gadeberg oftest bliver nævnt som Danmarks mest alsidige kvindelige entertainer: Om det er medvirken i populære musicals\, som solist med landets symfoniorkestre\, som revyskuespiller i Hjørring Revyen\, som underholder til alverdens arrangementer\, som podcast vært eller som det virale hit med figuren Pelle med deraf følgende shows i de største danske kulturhuse – Trine mestrer det hele! Trine Gadeberg har en særlig kærlighed til stemningsfulde koncerter i kirker\, hvor hun gennem mange år har givet publikum store musikalske oplevelser i varme og stemningsfulde omgivelser. \n  \nAlsidigheden i Trine Gadebergs julekoncert er lige så stor som alsidigheden på Trines CV: Med akkompagnement af Ebbe Ravn (keyboard) og Jørgen Heick (trompet\, trommer og keyboard) leveres en koncert med en enorm spændvidde i både repertoire og musikalske arrangementer. Her er naturligvis populære julesange som klassikeren Oh Holy Night\, stemningsfulde Nu tændes tusind julelys og En stjerne skinner i nat over Johannes Møllehaves og Anne Linnets Lille Messias til fællessangsvenlige Glade Jul. Undervejs supplerer Trine og musikere julens sange med andre sange\, der passer til kirkerummet. Det hele kædes sammen af Trine Gadebergs sjove betragtninger og anekdoter. Ikke 2 koncerter bliver ens\, for som den erfarne underholder Trine Gadeberg er\, formår hun at improvisere og gribe en situation i kirkerummet og få noget sjovt eller en sang ud af det. ?Vi skaber minder ved at opleve noget sammen?\, lyder Trine Gadebergs mantra\, og netop det er drivkraften for hende\, når hun gang på gang giver publikum minderige oplevelser\, hvor hun med sang\, humør og humoristiske takes på livet sender publikum hjem ? i julestemning\, med et smil på læben og et fornøjet minde rigere. \n  \nBilletter kan købes på rotarymentaltour.dk
URL:https://svaleredencamping.dk/aktiviteter/saeby-kirke-julekoncert-med-trine-gadeberg-med-duo/
LOCATION:Sæby Kirke\, Strandgade 5A\, Sæby\, 9300\, Denmark
CATEGORIES:Det sker i Sæby,Julekoncert,Rotary,Sæby Kirke
ATTACH;FMTTYPE=image/jpeg:https://svaleredencamping.dk/wp-content/uploads/2025/10/Julekoncert-med-Trine-Gadeberg.jpg
END:VEVENT
BEGIN:VEVENT
DTSTART;TZID=UTC:20251119T130000
DTEND;TZID=UTC:20251119T150000
DTSTAMP:20260424T231607
CREATED:20251012T071144Z
LAST-MODIFIED:20251012T071144Z
UID:31096-1763557200-1763564400@svaleredencamping.dk
SUMMARY:Vintertur i Sæby
DESCRIPTION:Oplev den smukke Sæby Kirke. Du mødes med vores guide foran Sæby Kirke til en omvisning indenfor med efterfølgende fortælling om byens historie også. \n\n\n\n\n\nKirkens egentlige navn er Skt. Mariæ Kirke\, og den kirke du ser\, er hvad der er tilbage af et stort firefløjet karmeliterkloster\, som med Børglumbispens hjælp blev oprettet i Sæby omkring 1470. Klosteret blev nedlagt i 1536\, efter reformationens indførelse i Danmark. \nKirken er\, med rette\, berømt for de fantastiske kalkmalerier der pryder loftet. Kalkmalerierne stammer fra begyndelsen af 1500-tallet\, og de fortæller historien om Marias forældre. \nEfter et spændende besøg i kirken\, går turen videre til den gamle bydel med lave hyggelige huse. \nGuiden fortæller undervejs bl.a. om de gamle digtere\, der i sidste århundrede yndede at tage ophold i den charmerende købstad for at få ro til at skrive. \nTuren afsluttes med et lille glas gløgg hos  Vinuniverset – Norhvin. \nPraktisk information \nDer er ture disse dage:\nOnsdag 19. november\, 26. november\, 3. december og 10. december \nTuren starter:\nKl. 13.00 og slutter kl. 15.00 \nPris:\nKr. 150\,- pr. person inkl. et lille glas gløgg \nMødested:\nForan Sæby Kirke\, Strandgade 5A\, 9300 Sæby \nBemærk! Turen gennemføres kun ved min. 6 betalende gæster – forudbestilling nødvendig.
URL:https://svaleredencamping.dk/aktiviteter/vintertur-i-saeby/
LOCATION:Sæby Kirke\, Strandgade 5A\, Sæby\, 9300\, Denmark
CATEGORIES:Jul i Sæby,Sæby Kirke
ATTACH;FMTTYPE=image/jpeg:https://svaleredencamping.dk/wp-content/uploads/2025/10/Vintertur-i-Saeby.jpg
END:VEVENT
END:VCALENDAR