BEGIN:VCALENDAR
VERSION:2.0
PRODID:-//Svalereden Strand Camping - ECPv6.13.0//NONSGML v1.0//EN
CALSCALE:GREGORIAN
METHOD:PUBLISH
X-WR-CALNAME:Svalereden Strand Camping
X-ORIGINAL-URL:https://svaleredencamping.dk
X-WR-CALDESC:Begivenheder for Svalereden Strand Camping
REFRESH-INTERVAL;VALUE=DURATION:PT1H
X-Robots-Tag:noindex
X-PUBLISHED-TTL:PT1H
BEGIN:VTIMEZONE
TZID:UTC
BEGIN:STANDARD
TZOFFSETFROM:+0000
TZOFFSETTO:+0000
TZNAME:UTC
DTSTART:20250101T000000
END:STANDARD
END:VTIMEZONE
BEGIN:VEVENT
DTSTART;TZID=UTC:20251231T130000
DTEND;TZID=UTC:20251231T140000
DTSTAMP:20260425T035033
CREATED:20251202T100817Z
LAST-MODIFIED:20251202T103024Z
UID:31197-1767186000-1767189600@svaleredencamping.dk
SUMMARY:NYTÅRSSKÅL
DESCRIPTION:
URL:https://svaleredencamping.dk/aktiviteter/saadan-laver-du-den-perfekte-nytarskaal/
LOCATION:Svalereden Strand Camping\, Frederikshavnsvej 112B\, Sæby\, 9300\, Denmark
CATEGORIES:Det sker i Sæby,Nytår,Svalereden Strand Camping
ATTACH;FMTTYPE=image/jpeg:https://svaleredencamping.dk/wp-content/uploads/2025/12/Header.jpg
ORGANIZER;CN="Svalereden Strand Camping":MAILTO:info@svaleredencamping.dk
END:VEVENT
END:VCALENDAR