BEGIN:VCALENDAR
VERSION:2.0
PRODID:-//Svalereden Strand Camping - ECPv6.13.0//NONSGML v1.0//EN
CALSCALE:GREGORIAN
METHOD:PUBLISH
X-ORIGINAL-URL:https://svaleredencamping.dk
X-WR-CALDESC:Begivenheder for Svalereden Strand Camping
REFRESH-INTERVAL;VALUE=DURATION:PT1H
X-Robots-Tag:noindex
X-PUBLISHED-TTL:PT1H
BEGIN:VTIMEZONE
TZID:UTC
BEGIN:STANDARD
TZOFFSETFROM:+0000
TZOFFSETTO:+0000
TZNAME:UTC
DTSTART:20250101T000000
END:STANDARD
END:VTIMEZONE
BEGIN:VEVENT
DTSTART;TZID=UTC:20251219T170000
DTEND;TZID=UTC:20251219T183000
DTSTAMP:20260424T231607
CREATED:20251009T093843Z
LAST-MODIFIED:20251009T125148Z
UID:30992-1766163600-1766169000@svaleredencamping.dk
SUMMARY:Sæby Kirke: Julekoncert med Anne Linnet
DESCRIPTION:Den lokale SIND-afdeling arrangerer julekoncerten i samarbejde med Sæby Kirke. Det bliver en stemningsfuld julekoncert med selveste Anne Linnet. Koncerten finder sted i smukke og højtidelige rammer i Sæby Kirke og markerer en aften\, hvor musik\, nærvær og fællesskab går op i en højere enhed.\n– “Det er med stor glæde\, at vi i SIND kan præsentere denne koncert\,” udtaler Rikke Rugholt fra den lokale SIND-afdeling. “Vi håber\, at mange vil være med til at støtte op om både musikken og det vigtige arbejde\, SIND udfører lokalt.” \nHele overskuddet fra koncerten går ubeskåret til SINDs arbejde i lokalområdet. \nAnne Linnet – en af Danmarks mest markante og elskede musikere – medbringer et stærkt musikalsk hold: pianist Markus Lindell\, korsanger Julie Lindell og guitarist Kasper Falkenberg. Publikum kan glæde sig til både velkendte favoritter\, nye sange og musikalske overraskelser – alt sammen leveret med Linnets karakteristiske nærvær og varme.\nFor Anne Linnet er julekoncerterne noget ganske særligt:\n– “Når folk går herfra\, så skulle de jo gerne være i julestemning. Det er også en vigtig del af julen\, dét at man mærker fællesskabet. Der er jo ikke nogen stemmer\, der er ens\, men når så mange forskellige stemmer blander sig\, opstår der noget magi.”\nMed en karriere\, der strækker sig over fem årtier\, har Anne Linnet sat et uudsletteligt præg på dansk musik. Nu kan publikum i Sæby glæde sig til at opleve hendes ikoniske stemme og stærke fortolkninger i en koncert\, der både rummer julefred\, eftertænksomhed og fællessang. \nUnummererede siddepladser.\nLedsager med ledsagekort – henvendelse hos Billettens Callcenter tlf. 70202096\nDer er koncert kl. 17.00 & kl. 20.00 (kl.  20.00 er udsolgt). \nDørene åbner 1 time før koncertstart. \nKøb billet HER
URL:https://svaleredencamping.dk/aktiviteter/saeby-kirke-julekoncert-med-anne-linnet/
LOCATION:Sæby Kirke\, Strandgade 5A\, Sæby\, 9300\, Denmark
CATEGORIES:Det sker i Sæby,Julekoncert,Sæby Kirke
ATTACH;FMTTYPE=image/jpeg:https://svaleredencamping.dk/wp-content/uploads/2025/10/Julekoncert-med-Anne-Linnet-1.jpg
END:VEVENT
END:VCALENDAR