BEGIN:VCALENDAR
VERSION:2.0
PRODID:-//Svalereden Strand Camping - ECPv6.13.0//NONSGML v1.0//EN
CALSCALE:GREGORIAN
METHOD:PUBLISH
X-WR-CALNAME:Svalereden Strand Camping
X-ORIGINAL-URL:https://svaleredencamping.dk
X-WR-CALDESC:Begivenheder for Svalereden Strand Camping
REFRESH-INTERVAL;VALUE=DURATION:PT1H
X-Robots-Tag:noindex
X-PUBLISHED-TTL:PT1H
BEGIN:VTIMEZONE
TZID:UTC
BEGIN:STANDARD
TZOFFSETFROM:+0000
TZOFFSETTO:+0000
TZNAME:UTC
DTSTART:20260101T000000
END:STANDARD
END:VTIMEZONE
BEGIN:VEVENT
DTSTART;VALUE=DATE:20260209
DTEND;VALUE=DATE:20270101
DTSTAMP:20260424T144443
CREATED:20250729T151700Z
LAST-MODIFIED:20260209T152226Z
UID:30749-1770595200-1798761599@svaleredencamping.dk
SUMMARY:Besøg Nordsøen Oceanarium – med rabat!
DESCRIPTION:Vi har en rabataftale med Nordsøen Oceanarium i Hirtshals – en spændende oplevelse for hele familien!\n\nSom gæst på Svalereden Strand Camping kan I få rabat på entréen. \nOplev Nordsøens fascinerende dyreliv\, store akvarier og sjove aktiviteter for børn og voksne! \n📍 Kør selv fra campingpladsen – ca. 50 min. i bil.📅 Tilbuddet gælder hele sæsonen 2026. \nSe kommende oplevelser på Nordsøen Oceanarium her \n \nRabatkort udleveres på Svalereden Camping.
URL:https://svaleredencamping.dk/aktiviteter/%f0%9f%a6%88-besoeg-nordsoeen-oceanarium-med-rabat-%f0%9f%8c%8a/
LOCATION:Nordsøen Oceanarium\, Willemoesvej 2\, Hirtshals\, https://nordsoenoceanarium.dk/forside\, 9850\, Denmark
CATEGORIES:For børn
ATTACH;FMTTYPE=image/jpeg:https://svaleredencamping.dk/wp-content/uploads/2025/07/Nordsoeen-2-e1770649778674.jpg
END:VEVENT
BEGIN:VEVENT
DTSTART;VALUE=DATE:20260323
DTEND;VALUE=DATE:20270101
DTSTAMP:20260424T144443
CREATED:20260323T143218Z
LAST-MODIFIED:20260323T143412Z
UID:32069-1774224000-1798761599@svaleredencamping.dk
SUMMARY:Sæby Handel: Aktivitetskalender 2026
DESCRIPTION:Det sker på Sæby Torv\nSe en nærmere beskrivelse af arrangementerne i kalenderen. Den opdateres løbende\, efterhånden som nye oplysninger foreligger.
URL:https://svaleredencamping.dk/aktiviteter/saeby-handel-aktivitetskalender-2026/
LOCATION:Sæby Torv\, Vestergade 24\, Sæby\, 9300\, Denmark
CATEGORIES:Det sker i Sæby,Sæby Handelsstandsforening
ATTACH;FMTTYPE=image/jpeg:https://svaleredencamping.dk/wp-content/uploads/2025/05/Logo-Saeby-Handel.jpg
END:VEVENT
BEGIN:VEVENT
DTSTART;TZID=UTC:20260424T183000
DTEND;TZID=UTC:20260424T200000
DTSTAMP:20260424T144443
CREATED:20260114T094012Z
LAST-MODIFIED:20260114T094724Z
UID:31506-1777055400-1777060800@svaleredencamping.dk
SUMMARY:Det sker i Sæby: En intim musikforestilling med Pernille Højmark
DESCRIPTION:“Først nu forstår jeg intet”\n– En intim musikforestilling\, hvor Pernilles liv foldes ud i ord og toner.\n\n\nFØRST NU FORSTÅR JEG INTET der er Pernille Højmarks stærke\, ærlige og musikalske one-woman – forestilling om modgang\, kampe og skelsættende livsøjeblikke.\nMed sin velkendte humor\, sin skarpe tunge og en sårbarhed\, de færreste kender hende for\, tager Pernille Højmark publikum med på en tur igennem modgang og successer.\nFra en usædvanlig rå barndom\, en heftig og vild ungdom til en alsidig karriere som sanger og skuespiller. \nDen selvbiografiske forestilling er dog mere end et blik ind i Pernille Højmarks liv.\nDet er en fortælling om et menneskes utrættelige forsøg på at finde en mening med galskaben og samtidig forlige sig med\, at netop meningen og skråsikkerheden forsvinder med alderen og afløses af erkendelsen af\, at ikke alt kan begribes. \nFØRST NU FORSTÅR JEG INTET er ufiltreret koncertteater i lille format.\nEn hyldest til det ufor­ståelige\, kaotiske og ukontrollerbare og en opfordring til at favne og elske den\, man er\, når man først har fundet hende. \nForestillingen er baseret på Pernille Højmarks erindringsbog af samme navn og indeholder både kendte og ny skrevne sange. \nMedvirkende: Pernille Højmark\nVarighed: 80 minutter inkl. pause\nUdbyder: Folketeatret\nScenografi\, musik eller andet: Manuskript: Pernille Højmark\, Musikere: Kor m.m.: Stine Findsen\, Keyboard\, harmonika m.m.: Peter Michael Jensen\nDato: Fredag d. 24.04.2026 kl. 18:30\nSpillested: Manegen\, Sæby \n\n\n\n\n\n\n\nI samarbejde med Frederikshavn Teaterforening. \n\nKØB BILLETTEN HER
URL:https://svaleredencamping.dk/aktiviteter/det-sker-i-saeby-en-intim-musikforestilling-med-pernille-hoejmark/
LOCATION:Manegen – Sæby Kulturhus\, Rådhuspladsen 2\, Sæby\, 9300\, Denmark
CATEGORIES:Det sker i Sæby,Events
ATTACH;FMTTYPE=image/jpeg:https://svaleredencamping.dk/wp-content/uploads/2026/01/Foerst-nu-forstaar-jeg-intet_banner.jpg
END:VEVENT
END:VCALENDAR